BEGIN:VCALENDAR
VERSION:2.0
PRODID:-//Business &amp; Career Services, Inc. - ECPv6.3.3.1//NONSGML v1.0//EN
CALSCALE:GREGORIAN
METHOD:PUBLISH
X-WR-CALNAME:Business &amp; Career Services, Inc.
X-ORIGINAL-URL:https://bcsillinois.org
X-WR-CALDESC:Events for Business &amp; Career Services, Inc.
REFRESH-INTERVAL;VALUE=DURATION:PT1H
X-Robots-Tag:noindex
X-PUBLISHED-TTL:PT1H
BEGIN:VTIMEZONE
TZID:America/Chicago
BEGIN:DAYLIGHT
TZOFFSETFROM:-0600
TZOFFSETTO:-0500
TZNAME:CDT
DTSTART:20250309T080000
END:DAYLIGHT
BEGIN:STANDARD
TZOFFSETFROM:-0500
TZOFFSETTO:-0600
TZNAME:CST
DTSTART:20251102T070000
END:STANDARD
END:VTIMEZONE
BEGIN:VEVENT
DTSTART;TZID=America/Chicago:20251019T140000
DTEND;TZID=America/Chicago:20251019T160000
DTSTAMP:20260421T110625
CREATED:20251015T204610Z
LAST-MODIFIED:20251019T204546Z
UID:10000062-1760882400-1760889600@bcsillinois.org
SUMMARY:Volunteer Palooza
DESCRIPTION:Sunday\, Oct. 19\, 2-4pm\nDrop-in to explore local volunteer opportunities for teens and adults.\nChat with more than 20 local organizations.\nAn interactive helping activity will be available for children. \n  \nOakton College\, Skokie Campus\n7701 Lincoln Ave.\nAcorn Room\nPark in South Parking Lot\nEnter Door 21 \n  \n \nUPDATED 8.5X11 Flyer – Volunteer Palooza 2025
URL:https://bcsillinois.org/event/volunteer-palooza/
LOCATION:Oakton Community College – Skokie\, 7701 Lincoln Ave - P103\, Skokie\, IL\, 60077\, United States
CATEGORIES:Resource Fair
ATTACH;FMTTYPE=image/jpeg:https://bcsillinois.org/wp-content/uploads/2025/10/UPDATED-Facebook_Volunteer-Palooza-2025-nMraG2.jpg
END:VEVENT
END:VCALENDAR