BEGIN:VCALENDAR
VERSION:2.0
PRODID:-//Business &amp; Career Services, Inc. - ECPv6.3.3.1//NONSGML v1.0//EN
CALSCALE:GREGORIAN
METHOD:PUBLISH
X-WR-CALNAME:Business &amp; Career Services, Inc.
X-ORIGINAL-URL:https://bcsillinois.org
X-WR-CALDESC:Events for Business &amp; Career Services, Inc.
REFRESH-INTERVAL;VALUE=DURATION:PT1H
X-Robots-Tag:noindex
X-PUBLISHED-TTL:PT1H
BEGIN:VTIMEZONE
TZID:America/Chicago
BEGIN:DAYLIGHT
TZOFFSETFROM:-0600
TZOFFSETTO:-0500
TZNAME:CDT
DTSTART:20260308T080000
END:DAYLIGHT
BEGIN:STANDARD
TZOFFSETFROM:-0500
TZOFFSETTO:-0600
TZNAME:CST
DTSTART:20261101T070000
END:STANDARD
END:VTIMEZONE
BEGIN:VEVENT
DTSTART;TZID=America/Chicago:20260204T100000
DTEND;TZID=America/Chicago:20260204T130000
DTSTAMP:20260425T165547
CREATED:20260129T201616Z
LAST-MODIFIED:20260204T203038Z
UID:10000177-1770199200-1770210000@bcsillinois.org
SUMMARY:Winter Hiring Event
DESCRIPTION:Metropolitan Family Services is hosting a Winter Hiring Event to help job seekers connect with local employers and advance their careers. \n📅 Wednesday\, February 4\, 2026\n🕙 10:00 AM – 1:00 PM\n📍 Jones Center – 6422 South Kedzie\, Chicago\, IL 60629 \nDress professionally and bring at least 3 copies of your resume. \n✅ Registration required: Scan the QR code or register here: https://bit.ly/4bihP8H \nTake the next step toward your future!
URL:https://bcsillinois.org/event/winter-hiring-event/
LOCATION:Metropolitan Family Services Kedzie\, 6422 S Kedzie\, Chicago\, IL\, 60629\, United States
CATEGORIES:Hiring Event
ATTACH;FMTTYPE=image/jpeg:https://bcsillinois.org/wp-content/uploads/2026/01/2026.02.04-winter-hiring-event-jpeg-BsJbLV.jpg
END:VEVENT
END:VCALENDAR