BEGIN:VCALENDAR
VERSION:2.0
PRODID:-//Business &amp; Career Services, Inc. - ECPv6.3.3.1//NONSGML v1.0//EN
CALSCALE:GREGORIAN
METHOD:PUBLISH
X-WR-CALNAME:Business &amp; Career Services, Inc.
X-ORIGINAL-URL:https://bcsillinois.org
X-WR-CALDESC:Events for Business &amp; Career Services, Inc.
REFRESH-INTERVAL;VALUE=DURATION:PT1H
X-Robots-Tag:noindex
X-PUBLISHED-TTL:PT1H
BEGIN:VTIMEZONE
TZID:America/Chicago
BEGIN:DAYLIGHT
TZOFFSETFROM:-0600
TZOFFSETTO:-0500
TZNAME:CDT
DTSTART:20260308T080000
END:DAYLIGHT
BEGIN:STANDARD
TZOFFSETFROM:-0500
TZOFFSETTO:-0600
TZNAME:CST
DTSTART:20261101T070000
END:STANDARD
END:VTIMEZONE
BEGIN:VEVENT
DTSTART;TZID=America/Chicago:20260515T100000
DTEND;TZID=America/Chicago:20260515T113000
DTSTAMP:20260422T174153
CREATED:20260415T151538Z
LAST-MODIFIED:20260422T151536Z
UID:10000275-1778839200-1778844600@bcsillinois.org
SUMMARY:Creating Your Target Resume – Craft Your Path to Success (In Person workshop)
DESCRIPTION:Creating Your Target Resume – Craft Your Path to Success\n \nPresented by a workforce professional from Business and Career Services\, Inc\,  This center is one of more than 3\,000 federally funded American Job Centers nationwide that provide services for both job seekers and employers. \nIn this workshop you’ll learn: \nRegister for this workshop to guide you through essential steps to create targeted resumes and stand out in today’s competitive job market. \nUnlock the secrets to standing out in today’s competitive job market with our interactive workshop\, From Resume to Interview: Craft Your Path to Success. Whether you’re a seasoned professional or just starting your career journey\, this workshop is designed to guide you through the essential steps of creating an impactful resume and acing your interview. \nRegister today! Space is limited. Walk-ins accepted on a space available basis only. Pre-registration is strongly recommended.  \nQUESTIONS: contact@bcsillinois.org \nIMPORTANT: For additional virtual job fairs\, free workshops and free computer classes\, visit https://www.ajcwheeling.com/events/ \nBCS is committed to providing all customers with quality\, professional services as well as a safe and comfortable learning environment. The use of our resources (in person or virtual) implies acceptance of our Customer Code of Conduct (see attached Code of Conduct)\, which is based on the principle of respect for all customers and staff. https://www.ajcwheeling.com/wp-content/uploads/2020/08/Customer-Code-of-Conduct-handout.pdf \nOur agency is an equal opportunity employer/program. Auxiliary aids and services are available upon request to individuals with disabilities. Funding for this program is made possible through a grant provided by the Chicago Cook Workforce Partnership. This workforce product was funded by a grant awarded by the U.S. Department of Labor’s Employment and Training Administration. For more information please visit ChiCookWorks.org/DOL-Funding \nSubject to change without notice. \n 
URL:https://bcsillinois.org/event/creating-your-target-resume-craft-your-path-to-success-in-person-workshop-2/
LOCATION:Indian Trails Public Library District\, 355 Schoenbeck Road\, Wheeling\, IL\, 60090\, United States
CATEGORIES:Job Search Workshop
ATTACH;FMTTYPE=image/png:https://bcsillinois.org/wp-content/uploads/2026/02/Target-ResumeThumbnail-216-x-216-px-do8r4Q.png
ORGANIZER;CN="Business and Career Services Inc.":MAILTO:contact@bcsillinois.org
END:VEVENT
BEGIN:VEVENT
DTSTART;TZID=America/Chicago:20260518T093000
DTEND;TZID=America/Chicago:20260518T130000
DTSTAMP:20260422T174153
CREATED:20260418T151528Z
LAST-MODIFIED:20260422T151532Z
UID:10000276-1779096600-1779109200@bcsillinois.org
SUMMARY:AJC On the Move – Mobile Resources
DESCRIPTION:The American Job Center in Wheeling is on the move!\nStaff will be on-site offering free employment and career services. Stop by for free job search assistance\, resume reviews\, interview preparation\, and access to employment and training resources. Open to all job seekers and NO appointment necessary. \nLocation and Dates:\nSchaumburg Township District Library Locations:\n\nHoffman Estates – 5/1 from 1:00pm to 4:00pm\nCentral Library – 5/13 from 1:00pm to 4:00pm\nHanover Park – 5/18 from 9:30am to 1:00pm\n\n  \n\n 
URL:https://bcsillinois.org/event/ajc-on-the-move-mobile-resources-13/
LOCATION:Hanover Park Branch Library\, 1266 Irving Park Rd\,\, Hanover Park\, IL\, 60133\, United States
ATTACH;FMTTYPE=image/png:https://bcsillinois.org/wp-content/uploads/2026/04/May-2026-Schaub-Library-Twsh-On-the-Move-YZLl9a.png
END:VEVENT
BEGIN:VEVENT
DTSTART;TZID=America/Chicago:20260519T090000
DTEND;TZID=America/Chicago:20260519T120000
DTSTAMP:20260422T174153
CREATED:20260419T151532Z
LAST-MODIFIED:20260422T151536Z
UID:10000277-1779181200-1779192000@bcsillinois.org
SUMMARY:Mock Interviewing (In-Person)
DESCRIPTION:Are You Ready?\nStrengthen your interview techniques and gain confidence in a supportive 45-minute session.\nOnce registered\, you will be asked to share your resume and a job lead prior to attending the session. \n \nLocation:\nAmerican Job Center in Wheeling\n1400 South Wolf Road – Building 200\, Suite 200\nWheeling\, IL 60090\n  \nPLEASE NOTE: \nThe American Job Center in Wheeling is committed to providing all customers with quality\, professional services as well as a safe and comfortable learning environment. The use of our resources implies acceptance of our Customer Code of Conduct\, which is based on the principle of respect for all customers and staff. READ: https://www.ajcwheeling.com/wp-content/uploads/2020/08/Customer-Code-of-Conduct-handout.pdf \nQUESTIONS? Email contact@bcsillinois.org \nsubject to change without notice.
URL:https://bcsillinois.org/event/mock-interviewing-in-person-10/
LOCATION:American Job Center in Wheeling\, 1400 South Wolf Road\, Building 200\, Suite 200\, Wheeling\, IL\, 60090\, United States
CATEGORIES:Job Search Workshop
ATTACH;FMTTYPE=image/png:https://bcsillinois.org/wp-content/uploads/2026/04/May-Mock-Intw-2026-r4XFlg.png
ORGANIZER;CN="Business and Career Services Inc.":MAILTO:contact@bcsillinois.org
END:VEVENT
BEGIN:VEVENT
DTSTART;TZID=America/Chicago:20260519T133000
DTEND;TZID=America/Chicago:20260519T150000
DTSTAMP:20260422T174153
CREATED:20260419T151532Z
LAST-MODIFIED:20260422T151536Z
UID:10000278-1779197400-1779202800@bcsillinois.org
SUMMARY:Illinois State Treasurer I-Cash event
DESCRIPTION:Illinois State Treasure at AJC Wheeling flyer 2026 dates Rev March date change\n 
URL:https://bcsillinois.org/event/illinois-state-treasurer-i-cash-event-9/
LOCATION:American Job Center in Wheeling\, 1400 South Wolf Road\, Building 200\, Suite 200\, Wheeling\, IL\, 60090\, United States
CATEGORIES:Resource Fair
ATTACH;FMTTYPE=image/jpeg:https://bcsillinois.org/wp-content/uploads/2025/07/ICash-flyer-component-COD5uy.jpg
ORGANIZER;CN="Business and Career Services Inc.":MAILTO:contact@bcsillinois.org
END:VEVENT
BEGIN:VEVENT
DTSTART;TZID=America/Chicago:20260520T093000
DTEND;TZID=America/Chicago:20260520T110000
DTSTAMP:20260422T174153
CREATED:20260420T151530Z
LAST-MODIFIED:20260422T151532Z
UID:10000279-1779269400-1779274800@bcsillinois.org
SUMMARY:Excel Focus on Functions – Lookup and Reference: explore VLOOKUP\, HLOOKUP and alternatives like INDEX and MATCH (virtual class)
DESCRIPTION:VLOOKUP is a must-have Excel function that’s used to manipulate data. In this 90-minute webinar we’ll explore VLOOKUP and the additional options that make it such a useful tool. We’ll also look at some alternatives to VLOOKUP like INDEX/MATCH.\nPRE-REGISTRATION IS REQUIRED FOR ATTENDING THIS CLASS! Registration closes 24 hours prior to class. \n \nPLEASE NOTE: \n\nYou must register as there is limited space for this virtual class.\n\n\nLog in 15 minutes prior to class. ABSOLUTELY NO ADMITTANCE after session starts. Be sure to allow enough time to log in.\n\n\nClasses are for individuals age 18+.\n\n\nIf you need to cancel\, please let us know a minimum of 48 hours prior to class so someone else on the waiting list can use your seat.\n\n\nPlease DO NOT REGISTER MORE THAN ONCE.\n\nThis American Job Center is committed to providing all customers with quality\, professional services as well as a safe and comfortable learning environment. The use of our resources implies acceptance of our Customer Code of Conduct\, which is based on the principle of respect for all customers and staff. READ: https://www.ajcwheeling.com/wp-content/uploads/2020/08/Customer-Code-of-Conduct-handout.pdf \nQUESTIONS? EMAIL contact@bcsillinois.org
URL:https://bcsillinois.org/event/excel-focus-on-functions-lookup-and-reference-explore-vlookup-hlookup-and-alternatives-like-index-and-match-virtual-class-9/
CATEGORIES:Computer workshop,Job Search Workshop
ATTACH;FMTTYPE=image/jpeg:https://bcsillinois.org/wp-content/uploads/2025/07/MS-Excel-Advanced-bk3bvU.jpg
ORGANIZER;CN="Business and Career Services Inc.":MAILTO:contact@bcsillinois.org
END:VEVENT
BEGIN:VEVENT
DTSTART;TZID=America/Chicago:20260520T100000
DTEND;TZID=America/Chicago:20260520T113000
DTSTAMP:20260422T174153
CREATED:20260420T151534Z
LAST-MODIFIED:20260422T151537Z
UID:10000281-1779271200-1779276600@bcsillinois.org
SUMMARY:Interview Success Secrets: Friendly and Informative Coaching – Stand out and get the job!(In Person Workshop)
DESCRIPTION:Join us on Wednesday\, May 20\, 2026 at  10:00am (Chicago time)\, for an in-person event that will transform your job search game! \nLocated at the American Job Center in Wheeling 1400 S WOLF RD\, BUILDING 200\, WHEELING\, IL 60090.  Ample free parking \nAre you tired of acing interviews only to be left empty-handed? If you’ve been struggling to land a job after making it past the interview stage\, don’t give up just yet. \nLearn sneaky secrets to interview success by understanding why you’re not getting the job offers\, and get the guidance you need to sharpen your interview skills. We’ll teach you how to effectively answer different types of interview questions using the S-A-R method\, and give you valuable insight into the interview process. \nDiscover how to make a lasting impression\, answer tough questions\, and stand out from the competition. \nPRE-REGISTRATION IS REQUIRED FOR ATTENDING THIS WORKSHOP! Walk-ins accepted on a space available basis. \n \nPLEASE NOTE: \n\nYou must register as there is only space for 24 people per workshop.\nRegistration closes 24 hours prior to workshop.\nCheck in 15 minutes prior to workshop. ABSOLUTELY NO ADMITTANCE after session starts. Be sure to allow enough time for traffic\, construction & weather.\nWorkshops are for individuals age 18+.\nSubject to change without notice.\nIf you need to cancel\, please let us know 48 hours prior to the workshop\, so someone else can use your seat.\n\nIMPORTANT: For additional job fairs\, free workshops and free computer classes\, visit  https://www.ajcwheeling.com/ \nBCS is committed to providing all customers with quality\, professional services as well as a safe and comfortable learning environment. The use of our resources (in person or virtual) implies acceptance of our Customer Code of Conduct (see attached Code of Conduct)\, which is based on the principle of respect for all customers and staff. https://www.ajcwheeling.com/wp-content/uploads/2020/08/Customer-Code-of-Conduct-handout.pdf \nOur agency is an equal opportunity employer/program. Auxiliary aids and services are available upon request to individuals with disabilities. Funding for this program is made possible through a grant provided by the Chicago Cook Workforce Partnership. This workforce product was funded by a grant awarded by the U.S. Department of Labor’s Employment and Training Administration. For more information please visit ChiCookWorks.org/DOL-Funding \nQUESTIONS? EMAIL contact@bcsillinois.org
URL:https://bcsillinois.org/event/interview-success-secrets-friendly-and-informative-coaching-stand-out-and-get-the-jobin-person-workshop-4/
LOCATION:American Job Center in Wheeling\, 1400 South Wolf Road\, Building 200\, Suite 200\, Wheeling\, IL\, 60090\, United States
CATEGORIES:Job Search Workshop
ATTACH;FMTTYPE=image/png:https://bcsillinois.org/wp-content/uploads/2026/03/Interview-Suc-Secrets-Graphic-216-x-216-px-CBuqDP.png
ORGANIZER;CN="Business and Career Services Inc.":MAILTO:contact@bcsillinois.org
END:VEVENT
BEGIN:VEVENT
DTSTART;TZID=America/Chicago:20260520T130000
DTEND;TZID=America/Chicago:20260520T143000
DTSTAMP:20260422T174153
CREATED:20260420T151530Z
LAST-MODIFIED:20260422T151532Z
UID:10000280-1779282000-1779287400@bcsillinois.org
SUMMARY:Excel Focus on Functions- Work with Text and Dates (Virtual Class)
DESCRIPTION:Excel Focus on Functions- Work with Text and Dates: CONCATENATE\, TODAY\, Flash Fill and Delimited Text\nText strings and dates can cause big problems in a spreadsheet if you’re not aware of how to identify and manipulate them! In this 90-minute webinar we’ll talk about basic text functions like CONCATENATE and date functions like TODAY. We’ll also explore tools like Flash Fill\, Text to Columns\, and delimited text.\nPRE-REGISTRATION IS REQUIRED FOR ATTENDING THIS CLASS! Registration closes 24 hours prior to class.\n \nPLEASE NOTE: \n\nYou must register as there is limited space for this virtual class.\n\n\nLog in 10 minutes prior to class. ABSOLUTELY NO ADMITTANCE after session starts. Be sure to allow enough time to log in.\n\n\nClasses are for individuals age 18+.\n\n\nIf you need to cancel\, please let us know a minimum of 48 hours prior to class so someone else on the waiting list can use your seat.\n\n\nPlease DO NOT REGISTER MORE THAN ONCE.\n\nThis American Job Center is committed to providing all customers with quality\, professional services as well as a safe and comfortable learning environment. The use of our resources implies acceptance of our Customer Code of Conduct\, which is based on the principle of respect for all customers and staff. READ: https://www.ajcwheeling.com/wp-content/uploads/2020/08/Customer-Code-of-Conduct-handout.pdf \nQUESTIONS? EMAIL: contact@bcsillinois.org
URL:https://bcsillinois.org/event/excel-focus-on-functions-work-with-text-and-dates-virtual-class-9/
CATEGORIES:Computer workshop,Job Search Workshop
ATTACH;FMTTYPE=image/jpeg:https://bcsillinois.org/wp-content/uploads/2025/07/MS-Excel-Advanced-bk3bvU.jpg
ORGANIZER;CN="Business and Career Services Inc.":MAILTO:contact@bcsillinois.org
END:VEVENT
BEGIN:VEVENT
DTSTART;TZID=America/Chicago:20260521T093000
DTEND;TZID=America/Chicago:20260521T110000
DTSTAMP:20260422T174153
CREATED:20260421T151534Z
LAST-MODIFIED:20260422T151532Z
UID:10000283-1779355800-1779361200@bcsillinois.org
SUMMARY:Excel Must Have Functions: Explore powerful IF family of Logical Functions (VIRTUAL CLASS)
DESCRIPTION:Learn about this powerful group of condition-based widely-used Excel Functions. We’ll look at IF\, IFS\, AND\, OR and expand into the exceptionally useful IF variations such as SUMIF\, COUNTIF\, and IFERROR\nExcel has a powerful group of conditional functions that automate decisions and calculations\, allowing you to analyze and summarize data based on specific criteria.\nImproving your EXCEL skills can give you that competitive edge in today’s job market – whether for a promotion or a new job. \nPre-registration is required to attend. Registration ends by 24 hours the day prior to the Class. \n \n\nIf you need to cancel\, please cancel 48 hours prior so someone else on the waiting list can use your seat.\n\n\nPLEASE do not register and then no show.\n\nThe American Job Center is committed to providing all customers with quality\, professional services as well as a safe and comfortable learning environment. The use of our resources implies acceptance of our Customer Code of Conduct\, which is based on the principle of respect for all customers and staff. READ: \nhttps://www.ajcwheeling.com/wp-content/uploads/2020/08/Customer-Code-of-Conduct-handout.pdf \nQUESTIONS? EMAIL: contact@bcsillinois.org
URL:https://bcsillinois.org/event/excel-must-have-functions-explore-powerful-if-family-of-logical-functions-virtual-class-7/
CATEGORIES:Computer workshop,Job Search Workshop
ATTACH;FMTTYPE=image/jpeg:https://bcsillinois.org/wp-content/uploads/2025/07/baaac6e35e8233dc874f834e12158ef7-dX8Ach.jpg
ORGANIZER;CN="Business and Career Services Inc.":MAILTO:contact@bcsillinois.org
END:VEVENT
BEGIN:VEVENT
DTSTART;TZID=America/Chicago:20260521T130000
DTEND;TZID=America/Chicago:20260521T143000
DTSTAMP:20260422T174153
CREATED:20260421T151534Z
LAST-MODIFIED:20260422T151533Z
UID:10000284-1779368400-1779373800@bcsillinois.org
SUMMARY:Excel Advanced Concepts: Additional Data Analysis tools (Virtual Class)
DESCRIPTION:Excel Advanced Concepts: Additional Data Analysis tools – Data validation\, Subtotal and What-Ifs\nThis 90-minute webinar focuses on some additional data tools available in Excel that are very useful but often overlooked. We’ll talk about data validation\, the Subtotal feature (an alternative to pivot tables)\, and the What-If tools.\nPRE-REGISTRATION IS REQUIRED FOR ATTENDING THIS CLASS! Registration closes 24 hours prior to class.\n \nPLEASE NOTE: \n\nYou must register as there is limited space for this virtual class.\n\n\nLog in 10 minutes prior to workshop. ABSOLUTELY NO ADMITTANCE after session starts. Be sure to allow enough time to log in.\n\n\nClasses are for individuals age 18+.\n\n\nIf you need to cancel\, please let us know a minimum of 48 hours prior to class so someone else on the waiting list can use your seat.\n\n\nPlease DO NOT REGISTER MORE THAN ONCE.\n\nThis American Job Center is committed to providing all customers with quality\, professional services as well as a safe and comfortable learning environment. The use of our resources implies acceptance of our Customer Code of Conduct\, which is based on the principle of respect for all customers and staff. READ: https://www.ajcwheeling.com/wp-content/uploads/2020/08/Customer-Code-of-Conduct-handout.pdf \nQUESTIONS? EMAIL: contact@bcsillinois.org
URL:https://bcsillinois.org/event/excel-advanced-concepts-additional-data-analysis-tools-virtual-class-9/
CATEGORIES:Computer workshop,Job Search Workshop
ATTACH;FMTTYPE=image/jpeg:https://bcsillinois.org/wp-content/uploads/2025/07/MS-Excel-Advanced-bk3bvU.jpg
ORGANIZER;CN="Business and Career Services Inc.":MAILTO:contact@bcsillinois.org
END:VEVENT
BEGIN:VEVENT
DTSTART;TZID=America/Chicago:20260521T130000
DTEND;TZID=America/Chicago:20260521T160000
DTSTAMP:20260422T174153
CREATED:20260421T151534Z
LAST-MODIFIED:20260422T151533Z
UID:10000285-1779368400-1779379200@bcsillinois.org
SUMMARY:AJC On the Move – Mobile Resources
DESCRIPTION:The American Job Center in Wheeling is on the move!\nStaff will be on site offering free employment and career services. Stop by for free job search assistance\, resume reviews\, interview preparation\, and access to employment and training resources. Open to all job seekers and NO appointment necessary. \nLocation and Dates:\nTownship of Schaumburg\n1 Illinois Blvd.\, Hoffman Estates\n1:00-4:00pm
URL:https://bcsillinois.org/event/ajc-on-the-move-mobile-resources-14/
END:VEVENT
END:VCALENDAR