BEGIN:VCALENDAR
VERSION:2.0
PRODID:-//Business &amp; Career Services, Inc. - ECPv6.3.3.1//NONSGML v1.0//EN
CALSCALE:GREGORIAN
METHOD:PUBLISH
X-ORIGINAL-URL:https://bcsillinois.org
X-WR-CALDESC:Events for Business &amp; Career Services, Inc.
REFRESH-INTERVAL;VALUE=DURATION:PT1H
X-Robots-Tag:noindex
X-PUBLISHED-TTL:PT1H
BEGIN:VTIMEZONE
TZID:America/Chicago
BEGIN:DAYLIGHT
TZOFFSETFROM:-0600
TZOFFSETTO:-0500
TZNAME:CDT
DTSTART:20260308T080000
END:DAYLIGHT
BEGIN:STANDARD
TZOFFSETFROM:-0500
TZOFFSETTO:-0600
TZNAME:CST
DTSTART:20261101T070000
END:STANDARD
END:VTIMEZONE
BEGIN:VEVENT
DTSTART;TZID=America/Chicago:20260423T110000
DTEND;TZID=America/Chicago:20260423T130000
DTSTAMP:20260421T154259
CREATED:20260421T151527Z
LAST-MODIFIED:20260421T151528Z
UID:10000282-1776942000-1776949200@bcsillinois.org
SUMMARY:CLEAN ENERGY JOBS FAIR
DESCRIPTION:
URL:https://bcsillinois.org/event/clean-energy-jobs-fair/
LOCATION:Greater West Town Community Development Project\, 500 N. Sacramento Blvd.\, Chicago\, IL\, 60612\, United States
CATEGORIES:Job Fair
ATTACH;FMTTYPE=image/jpeg:https://bcsillinois.org/wp-content/uploads/2026/04/2026.04.23-CLEAN-ENERGY-JOB-FAIR-Hqv4c9.jpg
ORGANIZER;CN="Greater West Town Community Development Project":MAILTO:info@gwtp.edu
END:VEVENT
END:VCALENDAR